BEGIN:VCALENDAR
VERSION:2.0
PRODID:-//Centura Hills Golf Club - ECPv5.14.1//NONSGML v1.0//EN
CALSCALE:GREGORIAN
METHOD:PUBLISH
X-WR-CALNAME:Centura Hills Golf Club
X-ORIGINAL-URL:https://www.centurahills.com
X-WR-CALDESC:Events for Centura Hills Golf Club
BEGIN:VTIMEZONE
TZID:America/Toronto
BEGIN:DAYLIGHT
TZOFFSETFROM:-0500
TZOFFSETTO:-0400
TZNAME:EDT
DTSTART:20260308T070000
END:DAYLIGHT
BEGIN:STANDARD
TZOFFSETFROM:-0400
TZOFFSETTO:-0500
TZNAME:EST
DTSTART:20261101T060000
END:STANDARD
END:VTIMEZONE
BEGIN:VEVENT
DTSTART;VALUE=DATE:20260522
DTEND;VALUE=DATE:20260523
DTSTAMP:20260422T075907
CREATED:20260401T214522Z
LAST-MODIFIED:20260401T214522Z
UID:14182-1779408000-1779494399@www.centurahills.com
SUMMARY:Swinging Fore Wounded Veterans
DESCRIPTION:10:00am shotgun \n4-person scramble format \n$400 per team includes 18 holes\, cart and lunch \n  \nContact Butch Nielsen (308 379-0145) or Eric Nielsen (308 380-5448) to sign up or become a sponsor
URL:https://www.centurahills.com/event/swinging-fore-wounded-veterans/
END:VEVENT
END:VCALENDAR