BEGIN:VCALENDAR
VERSION:2.0
PRODID:-//Centura Hills Golf Club - ECPv5.14.1//NONSGML v1.0//EN
CALSCALE:GREGORIAN
METHOD:PUBLISH
X-WR-CALNAME:Centura Hills Golf Club
X-ORIGINAL-URL:https://www.centurahills.com
X-WR-CALDESC:Events for Centura Hills Golf Club
BEGIN:VTIMEZONE
TZID:America/Toronto
BEGIN:DAYLIGHT
TZOFFSETFROM:-0500
TZOFFSETTO:-0400
TZNAME:EDT
DTSTART:20260308T070000
END:DAYLIGHT
BEGIN:STANDARD
TZOFFSETFROM:-0400
TZOFFSETTO:-0500
TZNAME:EST
DTSTART:20261101T060000
END:STANDARD
END:VTIMEZONE
BEGIN:VEVENT
DTSTART;VALUE=DATE:20260525
DTEND;VALUE=DATE:20260526
DTSTAMP:20260422T075748
CREATED:20240330T145138Z
LAST-MODIFIED:20260401T195530Z
UID:11926-1779667200-1779753599@www.centurahills.com
SUMMARY:OPEN TO EVERYONE!
DESCRIPTION:The course is open regular hours and to everyone today (holiday rates apply)
URL:https://www.centurahills.com/event/open-to-everyone/
END:VEVENT
END:VCALENDAR