BEGIN:VCALENDAR
VERSION:2.0
PRODID:-//Centura Hills Golf Club - ECPv5.14.1//NONSGML v1.0//EN
CALSCALE:GREGORIAN
METHOD:PUBLISH
X-WR-CALNAME:Centura Hills Golf Club
X-ORIGINAL-URL:https://www.centurahills.com
X-WR-CALDESC:Events for Centura Hills Golf Club
BEGIN:VTIMEZONE
TZID:America/Toronto
BEGIN:DAYLIGHT
TZOFFSETFROM:-0500
TZOFFSETTO:-0400
TZNAME:EDT
DTSTART:20260308T070000
END:DAYLIGHT
BEGIN:STANDARD
TZOFFSETFROM:-0400
TZOFFSETTO:-0500
TZNAME:EST
DTSTART:20261101T060000
END:STANDARD
END:VTIMEZONE
BEGIN:VEVENT
DTSTART;VALUE=DATE:20260516
DTEND;VALUE=DATE:20260517
DTSTAMP:20260422T075015
CREATED:20260401T195313Z
LAST-MODIFIED:20260401T195313Z
UID:14012-1778889600-1778975999@www.centurahills.com
SUMMARY:Nebraska MCC Golf Tournament
DESCRIPTION:9:00am shotgun2-Person Scramble format$140 per Team includes Green Fees\, Cart and Lunch \n3 Flights; Pays 3 Places Each Flight \nRegister by calling 402-560-7818\, or email NebraskaMCCGolf@gmail.com
URL:https://www.centurahills.com/event/nebraska-mcc-golf-tournament/
END:VEVENT
END:VCALENDAR