BEGIN:VCALENDAR
VERSION:2.0
PRODID:-//Centura Hills Golf Club - ECPv5.14.1//NONSGML v1.0//EN
CALSCALE:GREGORIAN
METHOD:PUBLISH
X-WR-CALNAME:Centura Hills Golf Club
X-ORIGINAL-URL:https://www.centurahills.com
X-WR-CALDESC:Events for Centura Hills Golf Club
BEGIN:VTIMEZONE
TZID:America/Toronto
BEGIN:DAYLIGHT
TZOFFSETFROM:-0500
TZOFFSETTO:-0400
TZNAME:EDT
DTSTART:20260308T070000
END:DAYLIGHT
BEGIN:STANDARD
TZOFFSETFROM:-0400
TZOFFSETTO:-0500
TZNAME:EST
DTSTART:20261101T060000
END:STANDARD
END:VTIMEZONE
BEGIN:VEVENT
DTSTART;VALUE=DATE:20260724
DTEND;VALUE=DATE:20260726
DTSTAMP:20260422T111428
CREATED:20210408T200809Z
LAST-MODIFIED:20260401T203431Z
UID:8155-1784851200-1785023999@www.centurahills.com
SUMMARY:Member/Guest
DESCRIPTION:
URL:https://www.centurahills.com/event/member-guest-4/
END:VEVENT
END:VCALENDAR