BEGIN:VCALENDAR
VERSION:2.0
PRODID:-//Centura Hills Golf Club - ECPv5.14.1//NONSGML v1.0//EN
CALSCALE:GREGORIAN
METHOD:PUBLISH
X-WR-CALNAME:Centura Hills Golf Club
X-ORIGINAL-URL:https://www.centurahills.com
X-WR-CALDESC:Events for Centura Hills Golf Club
BEGIN:VTIMEZONE
TZID:America/Toronto
BEGIN:DAYLIGHT
TZOFFSETFROM:-0500
TZOFFSETTO:-0400
TZNAME:EDT
DTSTART:20260308T070000
END:DAYLIGHT
BEGIN:STANDARD
TZOFFSETFROM:-0400
TZOFFSETTO:-0500
TZNAME:EST
DTSTART:20261101T060000
END:STANDARD
END:VTIMEZONE
BEGIN:VEVENT
DTSTART;VALUE=DATE:20260612
DTEND;VALUE=DATE:20260613
DTSTAMP:20260422T094933
CREATED:20210407T202331Z
LAST-MODIFIED:20260401T201338Z
UID:8136-1781222400-1781308799@www.centurahills.com
SUMMARY:Leadership Tomorrow Golf Classic
DESCRIPTION:The course will be closed to outside play until sometime in the evening. Contact Leadership to sign up a team! \n 
URL:https://www.centurahills.com/event/leadership-tomorrow-golf-classic/
END:VEVENT
END:VCALENDAR