BEGIN:VCALENDAR
VERSION:2.0
PRODID:-//Centura Hills Golf Club - ECPv5.14.1//NONSGML v1.0//EN
CALSCALE:GREGORIAN
METHOD:PUBLISH
X-WR-CALNAME:Centura Hills Golf Club
X-ORIGINAL-URL:https://www.centurahills.com
X-WR-CALDESC:Events for Centura Hills Golf Club
BEGIN:VTIMEZONE
TZID:America/Toronto
BEGIN:DAYLIGHT
TZOFFSETFROM:-0500
TZOFFSETTO:-0400
TZNAME:EDT
DTSTART:20260308T070000
END:DAYLIGHT
BEGIN:STANDARD
TZOFFSETFROM:-0400
TZOFFSETTO:-0500
TZNAME:EST
DTSTART:20261101T060000
END:STANDARD
END:VTIMEZONE
BEGIN:VEVENT
DTSTART;VALUE=DATE:20260413
DTEND;VALUE=DATE:20260414
DTSTAMP:20260422T210323
CREATED:20210421T190715Z
LAST-MODIFIED:20260401T192840Z
UID:8209-1776038400-1776124799@www.centurahills.com
SUMMARY:Men's Fun Night
DESCRIPTION:Open to all men! \n4-Man teams\, scramble format\, 6:00pm shotgun\, $20 (cash) per team for the prize fund. \nGreen fees for non-members are only $20 (includes 9 holes plus cart)! \n  \nMake sure to sign up your team!
URL:https://www.centurahills.com/event/fun-night-2/
END:VEVENT
END:VCALENDAR