BEGIN:VCALENDAR
VERSION:2.0
PRODID:-//Centura Hills Golf Club - ECPv5.14.1//NONSGML v1.0//EN
CALSCALE:GREGORIAN
METHOD:PUBLISH
X-WR-CALNAME:Centura Hills Golf Club
X-ORIGINAL-URL:https://www.centurahills.com
X-WR-CALDESC:Events for Centura Hills Golf Club
BEGIN:VTIMEZONE
TZID:America/Toronto
BEGIN:DAYLIGHT
TZOFFSETFROM:-0500
TZOFFSETTO:-0400
TZNAME:EDT
DTSTART:20260308T070000
END:DAYLIGHT
BEGIN:STANDARD
TZOFFSETFROM:-0400
TZOFFSETTO:-0500
TZNAME:EST
DTSTART:20261101T060000
END:STANDARD
END:VTIMEZONE
BEGIN:VEVENT
DTSTART;VALUE=DATE:20260711
DTEND;VALUE=DATE:20260713
DTSTAMP:20260422T112214
CREATED:20210408T200733Z
LAST-MODIFIED:20260402T184607Z
UID:8152-1783728000-1783900799@www.centurahills.com
SUMMARY:Grand Auto 2-Day Calcutta 4-Person Scramble w/ Lochland
DESCRIPTION:10:00am shotgun both days \n  \n$1000 per team \nIncludes: golf\, cart\, range balls\, flag prizes\, CASH prize money and food both days \n  \nCalcutta will be at 4:30pm on Saturday \n  \nSaturday @ Lochland \nSunday @ Centura Hills \n  \nCall or email Centura Hills to sign up!
URL:https://www.centurahills.com/event/centura-hills-awarii-dunes/
END:VEVENT
END:VCALENDAR