BEGIN:VCALENDAR
VERSION:2.0
PRODID:-//Centura Hills Golf Club - ECPv5.14.1//NONSGML v1.0//EN
CALSCALE:GREGORIAN
METHOD:PUBLISH
X-WR-CALNAME:Centura Hills Golf Club
X-ORIGINAL-URL:https://www.centurahills.com
X-WR-CALDESC:Events for Centura Hills Golf Club
BEGIN:VTIMEZONE
TZID:America/Toronto
BEGIN:DAYLIGHT
TZOFFSETFROM:-0500
TZOFFSETTO:-0400
TZNAME:EDT
DTSTART:20260308T070000
END:DAYLIGHT
BEGIN:STANDARD
TZOFFSETFROM:-0400
TZOFFSETTO:-0500
TZNAME:EST
DTSTART:20261101T060000
END:STANDARD
END:VTIMEZONE
BEGIN:VEVENT
DTSTART;VALUE=DATE:20260808
DTEND;VALUE=DATE:20260809
DTSTAMP:20260422T125701
CREATED:20210408T201750Z
LAST-MODIFIED:20260401T204057Z
UID:8167-1786147200-1786233599@www.centurahills.com
SUMMARY:Centura Hills 4-Woman Scramble
DESCRIPTION:9:00 am shotgun \n$100/Guest – $60/Member\n(Includes golf\, cart\, flag prizes\, CASH PAYOUT and meal following play) \nCome early and enjoy a Bloody Mary Bar ($5.00 a small\, $8.00 for a large) and a complimentary breakfast bar! \nFor more information or to sign-up a team\, call (308) 485-4650 or email centurahillsgc@gmail.com
URL:https://www.centurahills.com/event/centura-hills-4-woman-scramble-2/
END:VEVENT
END:VCALENDAR