BEGIN:VCALENDAR
VERSION:2.0
PRODID:-//Centura Hills Golf Club - ECPv5.14.1//NONSGML v1.0//EN
CALSCALE:GREGORIAN
METHOD:PUBLISH
X-WR-CALNAME:Centura Hills Golf Club
X-ORIGINAL-URL:https://www.centurahills.com
X-WR-CALDESC:Events for Centura Hills Golf Club
BEGIN:VTIMEZONE
TZID:America/Toronto
BEGIN:DAYLIGHT
TZOFFSETFROM:-0500
TZOFFSETTO:-0400
TZNAME:EDT
DTSTART:20260308T070000
END:DAYLIGHT
BEGIN:STANDARD
TZOFFSETFROM:-0400
TZOFFSETTO:-0500
TZNAME:EST
DTSTART:20261101T060000
END:STANDARD
END:VTIMEZONE
BEGIN:VEVENT
DTSTART;VALUE=DATE:20260616
DTEND;VALUE=DATE:20260617
DTSTAMP:20260422T094857
CREATED:20210421T193550Z
LAST-MODIFIED:20260401T201309Z
UID:8270-1781568000-1781654399@www.centurahills.com
SUMMARY:Central Nebraska Seniors
DESCRIPTION:***private outing*** \nBetween this event and league\, the course will be closed all day to outside play
URL:https://www.centurahills.com/event/central-nebraska-seniors-3/
END:VEVENT
END:VCALENDAR