BEGIN:VCALENDAR
VERSION:2.0
PRODID:-//Centura Hills Golf Club - ECPv5.14.1//NONSGML v1.0//EN
CALSCALE:GREGORIAN
METHOD:PUBLISH
X-WR-CALNAME:Centura Hills Golf Club
X-ORIGINAL-URL:https://www.centurahills.com
X-WR-CALDESC:Events for Centura Hills Golf Club
BEGIN:VTIMEZONE
TZID:America/Toronto
BEGIN:DAYLIGHT
TZOFFSETFROM:-0500
TZOFFSETTO:-0400
TZNAME:EDT
DTSTART:20260308T070000
END:DAYLIGHT
BEGIN:STANDARD
TZOFFSETFROM:-0400
TZOFFSETTO:-0500
TZNAME:EST
DTSTART:20261101T060000
END:STANDARD
END:VTIMEZONE
BEGIN:VEVENT
DTSTART;VALUE=DATE:20260504
DTEND;VALUE=DATE:20260505
DTSTAMP:20260422T081630
CREATED:20260415T170257Z
LAST-MODIFIED:20260415T170257Z
UID:14229-1777852800-1777939199@www.centurahills.com
SUMMARY:Callaway Demo Day
DESCRIPTION:https://process.callawaygolf.com/CgiServices/Fitting?id=a6c2f9db-fddc-461c-a59e-4addc282b57f \n  \nUse the above link to book your appointment!
URL:https://www.centurahills.com/event/callaway-demo-day/
END:VEVENT
END:VCALENDAR