BEGIN:VCALENDAR
VERSION:2.0
PRODID:-//Centura Hills Golf Club - ECPv5.14.1//NONSGML v1.0//EN
CALSCALE:GREGORIAN
METHOD:PUBLISH
X-WR-CALNAME:Centura Hills Golf Club
X-ORIGINAL-URL:https://www.centurahills.com
X-WR-CALDESC:Events for Centura Hills Golf Club
BEGIN:VTIMEZONE
TZID:America/Toronto
BEGIN:DAYLIGHT
TZOFFSETFROM:-0500
TZOFFSETTO:-0400
TZNAME:EDT
DTSTART:20260308T070000
END:DAYLIGHT
BEGIN:STANDARD
TZOFFSETFROM:-0400
TZOFFSETTO:-0500
TZNAME:EST
DTSTART:20261101T060000
END:STANDARD
END:VTIMEZONE
BEGIN:VEVENT
DTSTART;VALUE=DATE:20260720
DTEND;VALUE=DATE:20260722
DTSTAMP:20260422T111729
CREATED:20240330T151653Z
LAST-MODIFIED:20260401T203314Z
UID:12031-1784505600-1784678399@www.centurahills.com
SUMMARY:Boone Anderson Junior Golf Camp
DESCRIPTION:Sign up will open later in the season\, details to come
URL:https://www.centurahills.com/event/boone-anderson-junior-golf-camp-2/
END:VEVENT
END:VCALENDAR